BEGIN:VCALENDAR
VERSION:2.0
PRODID:-//Eventin//Event Calendar//EN
CALSCALE:GREGORIAN
METHOD:PUBLISH
BEGIN:VEVENT
UID:0cd5138e12c5782cc7c84cb20caf3479@safeandsound.org
SUMMARY:Cafecito
DESCRIPTION:Ven y comparte tus ideas y esperanzas para ti y tu familia mien
 tras tenemos conversaciones guiadas significativas sobre temas que están i
 ncluidos en los 5 factores de protección.\n \nRegístrate Aquí
LOCATION:1757 Waller Street\, San Francisco\, 94117
DTSTAMP:20260421T083738Z
DTSTART:20260615T213000Z
DTEND:20260615T223000Z
END:VEVENT
END:VCALENDAR
