BEGIN:VCALENDAR
VERSION:2.0
PRODID:-//Eventin//Event Calendar//EN
CALSCALE:GREGORIAN
METHOD:PUBLISH
BEGIN:VEVENT
UID:e5a086b268fcbe27f7adab7d6fbf0898@safeandsound.org
SUMMARY:Virtual Kids’ Turn Parent Child
DESCRIPTION:This is a 6-week co-parenting support series designed to help c
 hildren and caregivers navigate parental separation and divorce in a suppor
 tive\, age-appropriate environment. The series began on Saturday\, April 11
 th and meets every Saturday through May 16th. Families register once at th
 e start of the series and are expected to attend all sessions. Because this
  is a series-based program\, registration closes after the first session to
  support continuity\, trust\, and meaningful connection among participants.
LOCATION:Online
DTSTAMP:20260421T081429Z
DTSTART:20260516T170000Z
DTEND:20260516T183000Z
END:VEVENT
END:VCALENDAR
